BEGIN:VCALENDAR
VERSION:2.0
PRODID:-//XPLOSION EVENT - ECPv6.15.20//NONSGML v1.0//EN
CALSCALE:GREGORIAN
METHOD:PUBLISH
X-WR-CALNAME:XPLOSION EVENT
X-ORIGINAL-URL:https://xplosionevent.com
X-WR-CALDESC:Events for XPLOSION EVENT
REFRESH-INTERVAL;VALUE=DURATION:PT1H
X-Robots-Tag:noindex
X-PUBLISHED-TTL:PT1H
BEGIN:VTIMEZONE
TZID:UTC
BEGIN:STANDARD
TZOFFSETFROM:+0000
TZOFFSETTO:+0000
TZNAME:UTC
DTSTART:20240101T000000
END:STANDARD
END:VTIMEZONE
BEGIN:VEVENT
DTSTART;TZID=UTC:20251017T140000
DTEND;TZID=UTC:20251020T040000
DTSTAMP:20260423T152313
CREATED:20241016T162643Z
LAST-MODIFIED:20250825T165740Z
UID:1865-1760709600-1760932800@xplosionevent.com
SUMMARY:LA CASA DE BACHATA FESTIVAL 2025
DESCRIPTION:
URL:https://xplosionevent.com/event/la-casa-de-bachata-festival-2025/
LOCATION:Nurnberg\, Germany\, Germany
CATEGORIES:event
ATTACH;FMTTYPE=image/jpeg:https://xplosionevent.com/wp-content/uploads/2024/10/Insta-Poste_New-Udated.jpg
END:VEVENT
END:VCALENDAR