BEGIN:VCALENDAR
VERSION:2.0
PRODID:-//XPLOSION EVENT - ECPv6.15.20//NONSGML v1.0//EN
CALSCALE:GREGORIAN
METHOD:PUBLISH
X-ORIGINAL-URL:https://xplosionevent.com
X-WR-CALDESC:Events for XPLOSION EVENT
REFRESH-INTERVAL;VALUE=DURATION:PT1H
X-Robots-Tag:noindex
X-PUBLISHED-TTL:PT1H
BEGIN:VTIMEZONE
TZID:UTC
BEGIN:STANDARD
TZOFFSETFROM:+0000
TZOFFSETTO:+0000
TZNAME:UTC
DTSTART:20250101T000000
END:STANDARD
END:VTIMEZONE
BEGIN:VEVENT
DTSTART;TZID=UTC:20260515T020000
DTEND;TZID=UTC:20260518T020000
DTSTAMP:20260423T111256
CREATED:20250521T190705Z
LAST-MODIFIED:20260107T201314Z
UID:3682-1778810400-1779069600@xplosionevent.com
SUMMARY:XPLOSION RITMO BERLIN FESTIVAL 2026
DESCRIPTION:
URL:https://xplosionevent.com/event/xplosion-ritmo-berlin-festival-2026/
LOCATION:Berlin\, Germany
CATEGORIES:event
ATTACH;FMTTYPE=image/jpeg:https://xplosionevent.com/wp-content/uploads/2025/05/Ritmo_Poster_2026_Final-scaled.jpg
ORGANIZER;CN="Xplosion Event":MAILTO:Info@xplosionevent.com
END:VEVENT
BEGIN:VEVENT
DTSTART;TZID=UTC:20260731T190000
DTEND;TZID=UTC:20260802T180000
DTSTAMP:20260423T111256
CREATED:20250825T165943Z
LAST-MODIFIED:20260201T032739Z
UID:4415-1785524400-1785693600@xplosionevent.com
SUMMARY:XPLOSION BERLIN ZOUK FESTIVAL 2026
DESCRIPTION:
URL:https://xplosionevent.com/event/xplosion-berlin-zouk-festival-2026/
LOCATION:Berlin\, Germany
CATEGORIES:event
ATTACH;FMTTYPE=image/png:https://xplosionevent.com/wp-content/uploads/2025/08/Berlin-Zouk-Festival-1.png
END:VEVENT
END:VCALENDAR